BEGIN:VCALENDAR
VERSION:2.0
PRODID:-//［広島市中区］イルチブレインヨガ 広島スタジオ | 男性もOK 丹田呼吸 瞑想 ブレイン体操  - ECPv6.15.20//NONSGML v1.0//EN
CALSCALE:GREGORIAN
METHOD:PUBLISH
X-WR-CALNAME:［広島市中区］イルチブレインヨガ 広島スタジオ | 男性もOK 丹田呼吸 瞑想 ブレイン体操 
X-ORIGINAL-URL:https://ilchibrainyoga-hiroshima.com
X-WR-CALDESC:［広島市中区］イルチブレインヨガ 広島スタジオ | 男性もOK 丹田呼吸 瞑想 ブレイン体操  のイベント
REFRESH-INTERVAL;VALUE=DURATION:PT1H
X-Robots-Tag:noindex
X-PUBLISHED-TTL:PT1H
BEGIN:VTIMEZONE
TZID:Asia/Tokyo
BEGIN:STANDARD
TZOFFSETFROM:+0900
TZOFFSETTO:+0900
TZNAME:JST
DTSTART:20240101T000000
END:STANDARD
END:VTIMEZONE
BEGIN:VEVENT
DTSTART;TZID=Asia/Tokyo:20250716T140000
DTEND;TZID=Asia/Tokyo:20250716T200000
DTSTAMP:20260420T122406
CREATED:20250710T012308Z
LAST-MODIFIED:20250710T012445Z
UID:2476-1752674400-1752696000@ilchibrainyoga-hiroshima.com
SUMMARY:「脳と腸のヨガ」体験会💕
DESCRIPTION:初心者の方、大歓迎！\n体が硬くてもできます！✨ \n脳科学と東洋の伝統的なトレーニングを融合した変化を感じやすいプログラムです。✨\n簡単なストレッチや呼吸で体も心もすっきり気分爽快！✨\nまずは体験してみませんか😃🌟 \n開催日時:\n7月16日(水)・30日(水) 14:00〜、18:00〜\n7月26日(土)  14:00〜\n（所要時間約2時間）\n会場名:福山城月見櫓1階和室\n会場住所:福山市丸之内一丁目8番\n★お車の方は、お近くの有料駐車場をご利用ください。\n参加費:1\,000円\n持ち物:動きやすい服装、飲み物、タオル、ヨガマット \n🌟お問い合わせはお気軽に❣\n主催:イルチブレインヨガ  広島スタジオ\n問合せ電話:082-249-1637 \n\nLINEからのお申し込みはこちら⇒https://lin.ee/sqfZmdE \n\n\n  \n\n\n\n\n\n \n体験ご希望日時\n		(必須)　※ご注意：月曜日は定休日です\n		\n \n—以下から選択してください—10111213141516171819時 —以下から選択してください—001020304050分 ～ のクラス\n \nお名前\n		 (必須)\n		\n \n\n \nメールアドレス\n		 (必須)\n		\n \n\n \nお電話番号（携帯可）\n		 (必須)\n		\n \n\n \nこちらのスタジオを何でお知りになりましたか？\n		 (必須)\n		\n \nチラシ看板書籍雑誌紹介Yahoo検索Google検索口コミその他Webサイト\n \nご関心があること、習得したいこと（複数可）\n \n肩こり腰痛の改善自然治癒力アップ集中力アップダイエット体質改善ストレス解消丹田強化呼吸法瞑想法その他\n \n備考欄\n \n\n \n\n\n \n\n Δ \n\n\n\n株式会社DAHN WORLD JAPAN　ダンワールドジャパン
URL:https://ilchibrainyoga-hiroshima.com/event/hiroshima-3/
LOCATION:福山城月見櫓1階和室\, 福山市丸之内一丁目8番
ATTACH;FMTTYPE=image/jpeg:https://ilchibrainyoga-hiroshima.com/wp-content/uploads/2025/01/hirosima.jpg
END:VEVENT
BEGIN:VEVENT
DTSTART;TZID=Asia/Tokyo:20250726T140000
DTEND;TZID=Asia/Tokyo:20250726T160000
DTSTAMP:20260420T122406
CREATED:20250710T012404Z
LAST-MODIFIED:20250710T012413Z
UID:2478-1753538400-1753545600@ilchibrainyoga-hiroshima.com
SUMMARY:「脳と腸のヨガ」体験会💕
DESCRIPTION:初心者の方、大歓迎！\n体が硬くてもできます！✨ \n脳科学と東洋の伝統的なトレーニングを融合した変化を感じやすいプログラムです。✨\n簡単なストレッチや呼吸で体も心もすっきり気分爽快！✨\nまずは体験してみませんか😃🌟 \n開催日時:\n7月30日(水) 14:00〜、18:00〜\n7月26日(土) 14:00〜\n（所要時間約2時間）\n会場名:福山城月見櫓1階和室\n会場住所:福山市丸之内一丁目8番\n★お車の方は、お近くの有料駐車場をご利用ください。\n参加費:1\,000円\n持ち物:動きやすい服装、飲み物、タオル、ヨガマット \n🌟お問い合わせはお気軽に❣\n主催:イルチブレインヨガ  広島スタジオ\n問合せ電話:082-249-1637 \n\nLINEからのお申し込みはこちら⇒https://lin.ee/sqfZmdE \n\n\n  \n\n\n\n\n\n \n体験ご希望日時\n		(必須)　※ご注意：月曜日は定休日です\n		\n \n—以下から選択してください—10111213141516171819時 —以下から選択してください—001020304050分 ～ のクラス\n \nお名前\n		 (必須)\n		\n \n\n \nメールアドレス\n		 (必須)\n		\n \n\n \nお電話番号（携帯可）\n		 (必須)\n		\n \n\n \nこちらのスタジオを何でお知りになりましたか？\n		 (必須)\n		\n \nチラシ看板書籍雑誌紹介Yahoo検索Google検索口コミその他Webサイト\n \nご関心があること、習得したいこと（複数可）\n \n肩こり腰痛の改善自然治癒力アップ集中力アップダイエット体質改善ストレス解消丹田強化呼吸法瞑想法その他\n \n備考欄\n \n\n \n\n\n \n\n Δ \n\n\n\n株式会社DAHN WORLD JAPAN　ダンワールドジャパン
URL:https://ilchibrainyoga-hiroshima.com/event/hiroshima-4/
LOCATION:福山城月見櫓1階和室\, 福山市丸之内一丁目8番
ATTACH;FMTTYPE=image/jpeg:https://ilchibrainyoga-hiroshima.com/wp-content/uploads/2025/01/hirosima.jpg
END:VEVENT
BEGIN:VEVENT
DTSTART;TZID=Asia/Tokyo:20250730T140000
DTEND;TZID=Asia/Tokyo:20250730T200000
DTSTAMP:20260420T122406
CREATED:20250710T012523Z
LAST-MODIFIED:20250710T012523Z
UID:2481-1753884000-1753905600@ilchibrainyoga-hiroshima.com
SUMMARY:「脳と腸のヨガ」体験会💕
DESCRIPTION:初心者の方、大歓迎！\n体が硬くてもできます！✨ \n脳科学と東洋の伝統的なトレーニングを融合した変化を感じやすいプログラムです。✨\n簡単なストレッチや呼吸で体も心もすっきり気分爽快！✨\nまずは体験してみませんか😃🌟 \n開催日時:\n7月30日(水) 14:00〜、18:00〜\n（所要時間約2時間）\n会場名:福山城月見櫓1階和室\n会場住所:福山市丸之内一丁目8番\n★お車の方は、お近くの有料駐車場をご利用ください。\n参加費:1\,000円\n持ち物:動きやすい服装、飲み物、タオル、ヨガマット \n🌟お問い合わせはお気軽に❣\n主催:イルチブレインヨガ  広島スタジオ\n問合せ電話:082-249-1637 \n\nLINEからのお申し込みはこちら⇒https://lin.ee/sqfZmdE \n\n\n  \n\n\n\n\n\n \n体験ご希望日時\n		(必須)　※ご注意：月曜日は定休日です\n		\n \n—以下から選択してください—10111213141516171819時 —以下から選択してください—001020304050分 ～ のクラス\n \nお名前\n		 (必須)\n		\n \n\n \nメールアドレス\n		 (必須)\n		\n \n\n \nお電話番号（携帯可）\n		 (必須)\n		\n \n\n \nこちらのスタジオを何でお知りになりましたか？\n		 (必須)\n		\n \nチラシ看板書籍雑誌紹介Yahoo検索Google検索口コミその他Webサイト\n \nご関心があること、習得したいこと（複数可）\n \n肩こり腰痛の改善自然治癒力アップ集中力アップダイエット体質改善ストレス解消丹田強化呼吸法瞑想法その他\n \n備考欄\n \n\n \n\n\n \n\n Δ \n\n\n\n株式会社DAHN WORLD JAPAN　ダンワールドジャパン
URL:https://ilchibrainyoga-hiroshima.com/event/hiroshima-5/
LOCATION:福山城月見櫓1階和室\, 福山市丸之内一丁目8番
ATTACH;FMTTYPE=image/jpeg:https://ilchibrainyoga-hiroshima.com/wp-content/uploads/2025/01/hirosima.jpg
END:VEVENT
END:VCALENDAR